BEGIN:VCALENDAR
VERSION:2.0
PRODID:-//Feuerwehr Bad Wörishofen - ECPv6.15.20//NONSGML v1.0//EN
CALSCALE:GREGORIAN
METHOD:PUBLISH
X-WR-CALNAME:Feuerwehr Bad Wörishofen
X-ORIGINAL-URL:https://www.ffwbw.de
X-WR-CALDESC:Veranstaltungen für Feuerwehr Bad Wörishofen
REFRESH-INTERVAL;VALUE=DURATION:PT1H
X-Robots-Tag:noindex
X-PUBLISHED-TTL:PT1H
BEGIN:VTIMEZONE
TZID:Europe/Berlin
BEGIN:DAYLIGHT
TZOFFSETFROM:+0100
TZOFFSETTO:+0200
TZNAME:CEST
DTSTART:20250330T010000
END:DAYLIGHT
BEGIN:STANDARD
TZOFFSETFROM:+0200
TZOFFSETTO:+0100
TZNAME:CET
DTSTART:20251026T010000
END:STANDARD
BEGIN:DAYLIGHT
TZOFFSETFROM:+0100
TZOFFSETTO:+0200
TZNAME:CEST
DTSTART:20260329T010000
END:DAYLIGHT
BEGIN:STANDARD
TZOFFSETFROM:+0200
TZOFFSETTO:+0100
TZNAME:CET
DTSTART:20261025T010000
END:STANDARD
BEGIN:DAYLIGHT
TZOFFSETFROM:+0100
TZOFFSETTO:+0200
TZNAME:CEST
DTSTART:20270328T010000
END:DAYLIGHT
BEGIN:STANDARD
TZOFFSETFROM:+0200
TZOFFSETTO:+0100
TZNAME:CET
DTSTART:20271031T010000
END:STANDARD
END:VTIMEZONE
BEGIN:VEVENT
DTSTART;TZID=Europe/Berlin:20261103T193000
DTEND;TZID=Europe/Berlin:20261103T193000
DTSTAMP:20260419T165932
CREATED:20260121T073535Z
LAST-MODIFIED:20260121T073535Z
UID:7476-1793734200-1793734200@www.ffwbw.de
SUMMARY:Atemschutz-Notfalltraining
DESCRIPTION:Atemschutz-Notfalltraining im Feuerwehrhaus für Atemschutzgeräteträger
URL:https://www.ffwbw.de/veranstaltungen/atemschutz-notfalltraining-2/
LOCATION:Feuerwehrhaus Bad Wörishofen\, Schulstraße 13\, Bad Wörishofen\, 86825\, Deutschland
END:VEVENT
BEGIN:VEVENT
DTSTART;TZID=Europe/Berlin:20261108T170000
DTEND;TZID=Europe/Berlin:20261108T170000
DTSTAMP:20260419T165932
CREATED:20230220T075116Z
LAST-MODIFIED:20260121T074914Z
UID:2284-1794157200-1794157200@www.ffwbw.de
SUMMARY:Dienstsport
DESCRIPTION:Fußball in der Turnhalle der Wirtschaftsschule.
URL:https://www.ffwbw.de/veranstaltungen/dienstsport-14/
LOCATION:Wirtschaftschule\, Oststraße 38\, Bad Wörishofen\, 86825\, Deutschland
CATEGORIES:Dienstsport
END:VEVENT
BEGIN:VEVENT
DTSTART;TZID=Europe/Berlin:20261110T190000
DTEND;TZID=Europe/Berlin:20261110T190000
DTSTAMP:20260419T165932
CREATED:20230111T101511Z
LAST-MODIFIED:20260121T072834Z
UID:1790-1794337200-1794337200@www.ffwbw.de
SUMMARY:Übung Jugendfeuerwehr
DESCRIPTION:Übungsabend der Jugendfeuerwehr im Feuerwehrhaus.
URL:https://www.ffwbw.de/veranstaltungen/uebung-jugendfeuerwehr-4/
LOCATION:Feuerwehrhaus Bad Wörishofen\, Schulstraße 13\, Bad Wörishofen\, 86825\, Deutschland
END:VEVENT
BEGIN:VEVENT
DTSTART;TZID=Europe/Berlin:20261115T170000
DTEND;TZID=Europe/Berlin:20261115T170000
DTSTAMP:20260419T165932
CREATED:20230220T074411Z
LAST-MODIFIED:20260121T074939Z
UID:2271-1794762000-1794762000@www.ffwbw.de
SUMMARY:Dienstsport
DESCRIPTION:Fußball in der Turnhalle der Wirtschaftsschule.
URL:https://www.ffwbw.de/veranstaltungen/dienstsport-13/
LOCATION:Wirtschaftschule\, Oststraße 38\, Bad Wörishofen\, 86825\, Deutschland
CATEGORIES:Dienstsport
END:VEVENT
BEGIN:VEVENT
DTSTART;TZID=Europe/Berlin:20261122T170000
DTEND;TZID=Europe/Berlin:20261122T170000
DTSTAMP:20260419T165932
CREATED:20230220T075213Z
LAST-MODIFIED:20260121T075004Z
UID:2288-1795366800-1795366800@www.ffwbw.de
SUMMARY:Dienstsport
DESCRIPTION:Fußball in der Turnhalle der Wirtschaftsschule.
URL:https://www.ffwbw.de/veranstaltungen/dienstsport-15/
LOCATION:Wirtschaftschule\, Oststraße 38\, Bad Wörishofen\, 86825\, Deutschland
CATEGORIES:Dienstsport
END:VEVENT
BEGIN:VEVENT
DTSTART;TZID=Europe/Berlin:20261124T190000
DTEND;TZID=Europe/Berlin:20261124T190000
DTSTAMP:20260419T165932
CREATED:20221229T100023Z
LAST-MODIFIED:20260121T072900Z
UID:644-1795546800-1795546800@www.ffwbw.de
SUMMARY:Übung Jugendfeuerwehr
DESCRIPTION:Übungsabend der Jugendfeuerwehr im Feuerwehrhaus
URL:https://www.ffwbw.de/veranstaltungen/uebung-jugendfeuerwehr-2/
LOCATION:Feuerwehrhaus Bad Wörishofen\, Schulstraße 13\, Bad Wörishofen\, 86825\, Deutschland
END:VEVENT
BEGIN:VEVENT
DTSTART;TZID=Europe/Berlin:20261129T170000
DTEND;TZID=Europe/Berlin:20261129T170000
DTSTAMP:20260419T165932
CREATED:20230220T075524Z
LAST-MODIFIED:20260121T075025Z
UID:2294-1795971600-1795971600@www.ffwbw.de
SUMMARY:Dienstsport
DESCRIPTION:Fußball in der Turnhalle der Wirtschaftsschule.
URL:https://www.ffwbw.de/veranstaltungen/dienstsport-16/
LOCATION:Wirtschaftschule\, Oststraße 38\, Bad Wörishofen\, 86825\, Deutschland
CATEGORIES:Dienstsport
END:VEVENT
BEGIN:VEVENT
DTSTART;TZID=Europe/Berlin:20261206T170000
DTEND;TZID=Europe/Berlin:20261206T170000
DTSTAMP:20260419T165932
CREATED:20230220T075621Z
LAST-MODIFIED:20260121T075049Z
UID:2298-1796576400-1796576400@www.ffwbw.de
SUMMARY:Dienstsport
DESCRIPTION:Fußball in der Turnhalle der Wirtschaftsschule.
URL:https://www.ffwbw.de/veranstaltungen/dienstsport-17/
LOCATION:Wirtschaftschule\, Oststraße 38\, Bad Wörishofen\, 86825\, Deutschland
CATEGORIES:Dienstsport
END:VEVENT
BEGIN:VEVENT
DTSTART;TZID=Europe/Berlin:20261208T190000
DTEND;TZID=Europe/Berlin:20261208T190000
DTSTAMP:20260419T165932
CREATED:20220923T051142Z
LAST-MODIFIED:20260121T073022Z
UID:303-1796756400-1796756400@www.ffwbw.de
SUMMARY:Übung Jugendfeuerwehr
DESCRIPTION:Übungsabend der Jugendfeuerwehr
URL:https://www.ffwbw.de/veranstaltungen/uebung-jugendfeuerwehr/
LOCATION:Feuerwehrhaus Bad Wörishofen\, Schulstraße 13\, Bad Wörishofen\, 86825\, Deutschland
END:VEVENT
BEGIN:VEVENT
DTSTART;TZID=Europe/Berlin:20261213T170000
DTEND;TZID=Europe/Berlin:20261213T170000
DTSTAMP:20260419T165932
CREATED:20230220T140106Z
LAST-MODIFIED:20260121T075109Z
UID:2300-1797181200-1797181200@www.ffwbw.de
SUMMARY:Dienstsport
DESCRIPTION:Fußball in der Turnhalle der Wirtschaftsschule.
URL:https://www.ffwbw.de/veranstaltungen/dienstsport-18/
LOCATION:Wirtschaftschule\, Oststraße 38\, Bad Wörishofen\, 86825\, Deutschland
CATEGORIES:Dienstsport
END:VEVENT
BEGIN:VEVENT
DTSTART;TZID=Europe/Berlin:20261219T133000
DTEND;TZID=Europe/Berlin:20261219T133000
DTSTAMP:20260419T165932
CREATED:20230323T081746Z
LAST-MODIFIED:20260121T075601Z
UID:2474-1797687000-1797687000@www.ffwbw.de
SUMMARY:Jahresabschlussfahrt
DESCRIPTION:Alljährliche Jahresabschlussfahrt mit allen Fahrzeugen zusammen mit der BRK Bereitschaft Bad Wörishofen.
URL:https://www.ffwbw.de/veranstaltungen/jahresabschlussfahrt/
LOCATION:Feuerwehrhaus Bad Wörishofen\, Schulstraße 13\, Bad Wörishofen\, 86825\, Deutschland
CATEGORIES:Aktive
END:VEVENT
BEGIN:VEVENT
DTSTART;TZID=Europe/Berlin:20261220T170000
DTEND;TZID=Europe/Berlin:20261220T170000
DTSTAMP:20260419T165932
CREATED:20230220T140424Z
LAST-MODIFIED:20260121T075134Z
UID:2308-1797786000-1797786000@www.ffwbw.de
SUMMARY:Dienstsport
DESCRIPTION:Fußball in der Turnhalle der Wirtschaftsschule.
URL:https://www.ffwbw.de/veranstaltungen/dienstsport-20/
LOCATION:Wirtschaftschule\, Oststraße 38\, Bad Wörishofen\, 86825\, Deutschland
CATEGORIES:Dienstsport
END:VEVENT
BEGIN:VEVENT
DTSTART;TZID=Europe/Berlin:20261222T183000
DTEND;TZID=Europe/Berlin:20261222T183000
DTSTAMP:20260419T165932
CREATED:20240227T135112Z
LAST-MODIFIED:20260121T073045Z
UID:4303-1797964200-1797964200@www.ffwbw.de
SUMMARY:Jugendversammlung
DESCRIPTION:Jugendversammlung mit anschließender Weihnachtsfeier
URL:https://www.ffwbw.de/veranstaltungen/jugendversammlung/
LOCATION:Feuerwehrhaus Bad Wörishofen\, Schulstraße 13\, Bad Wörishofen\, 86825\, Deutschland
CATEGORIES:Jugend
END:VEVENT
END:VCALENDAR